BEGIN:VCALENDAR
VERSION:2.0
METHOD:PUBLISH
PRODID:-//imacoda.com//SPD-Web-O-Mat//EN
CALSCALE:GREGORIAN
BEGIN:VTIMEZONE
TZID:Europe/Berlin
BEGIN:DAYLIGHT
TZOFFSETFROM:+0100
RRULE:FREQ=YEARLY;BYMONTH=3;BYDAY=-1SU
DTSTART:19810329T020000
TZNAME:MESZ
TZOFFSETTO:+0200
END:DAYLIGHT
BEGIN:STANDARD
TZOFFSETFROM:+0200
RRULE:FREQ=YEARLY;BYMONTH=10;BYDAY=-1SU
DTSTART:19961027T030000
TZNAME:MEZ
TZOFFSETTO:+0100
END:STANDARD
END:VTIMEZONE
BEGIN:VEVENT
UID:20240627T111847Z-00000965947-LULU@www.bayernspd.de
CREATED:20240627T111847Z
LAST-MODIFIED:20240627T112128Z
DTSTAMP:20240627T112128Z
TRANSP:TRANSPARENT
DTSTART;TZID=Europe/Berlin:20240724T180000
DTEND;TZID=Europe/Berlin:20240724T180000
SUMMARY:"Fraktion vor Ort": Fachgespräch Innere Sicherheit
LOCATION:Kulturzentrum Trudering\, Kleiner Saal
DESCRIPTION:Termin im Web (Markus Rinderspacher):\nhttps://markus-rinder
 spacher.de/termine/?id=965947
END:VEVENT
END:VCALENDAR
