BEGIN:VCALENDAR
VERSION:2.0
METHOD:PUBLISH
PRODID:-//imacoda.com//SPD-Web-O-Mat//EN
CALSCALE:GREGORIAN
BEGIN:VTIMEZONE
TZID:Europe/Berlin
BEGIN:DAYLIGHT
TZOFFSETFROM:+0100
RRULE:FREQ=YEARLY;BYMONTH=3;BYDAY=-1SU
DTSTART:19810329T020000
TZNAME:MESZ
TZOFFSETTO:+0200
END:DAYLIGHT
BEGIN:STANDARD
TZOFFSETFROM:+0200
RRULE:FREQ=YEARLY;BYMONTH=10;BYDAY=-1SU
DTSTART:19961027T030000
TZNAME:MEZ
TZOFFSETTO:+0100
END:STANDARD
END:VTIMEZONE
BEGIN:VEVENT
UID:20231205T105045Z-00000946693-LULU@www.bayernspd.de
CREATED:20231205T105045Z
LAST-MODIFIED:20231205T105045Z
DTSTAMP:20231205T105045Z
TRANSP:TRANSPARENT
DTSTART;TZID=Europe/Berlin:20240106T100000
DTEND;TZID=Europe/Berlin:20240106T100000
SUMMARY:Dreikönigstreffen der MünchenSPD
LOCATION:Hofbräukeller\, M-Haidhausen
DESCRIPTION:Termin im Web (Markus Rinderspacher):\nhttps://markus-rinder
 spacher.de/termine/?id=946693
END:VEVENT
END:VCALENDAR
